BEGIN:VCALENDAR
VERSION:2.0
PRODID:-//CF Insider - ECPv6.15.18//NONSGML v1.0//EN
CALSCALE:GREGORIAN
METHOD:PUBLISH
X-ORIGINAL-URL:https://cfinsider.org
X-WR-CALDESC:Events for CF Insider
REFRESH-INTERVAL;VALUE=DURATION:PT1H
X-Robots-Tag:noindex
X-PUBLISHED-TTL:PT1H
BEGIN:VTIMEZONE
TZID:America/New_York
BEGIN:DAYLIGHT
TZOFFSETFROM:-0500
TZOFFSETTO:-0400
TZNAME:EDT
DTSTART:20240310T070000
END:DAYLIGHT
BEGIN:STANDARD
TZOFFSETFROM:-0400
TZOFFSETTO:-0500
TZNAME:EST
DTSTART:20241103T060000
END:STANDARD
BEGIN:DAYLIGHT
TZOFFSETFROM:-0500
TZOFFSETTO:-0400
TZNAME:EDT
DTSTART:20250309T070000
END:DAYLIGHT
BEGIN:STANDARD
TZOFFSETFROM:-0400
TZOFFSETTO:-0500
TZNAME:EST
DTSTART:20251102T060000
END:STANDARD
BEGIN:DAYLIGHT
TZOFFSETFROM:-0500
TZOFFSETTO:-0400
TZNAME:EDT
DTSTART:20260308T070000
END:DAYLIGHT
BEGIN:STANDARD
TZOFFSETFROM:-0400
TZOFFSETTO:-0500
TZNAME:EST
DTSTART:20261101T060000
END:STANDARD
END:VTIMEZONE
BEGIN:VEVENT
DTSTART;TZID=America/New_York:20250108T100000
DTEND;TZID=America/New_York:20250206T160000
DTSTAMP:20260421T060740
CREATED:20241209T182120Z
LAST-MODIFIED:20250103T203421Z
UID:15058-1736330400-1738857600@cfinsider.org
SUMMARY:2025 Faculty Art Exhibition at the Webber Gallery
DESCRIPTION:The College of Central Florida Webber Gallery will showcase the talent of the college’s visual arts faculty in the biennial Faculty Art Exhibition on view Jan. 8-Feb. 6. New work by four faculty members spans mediums including ceramics\, fiber arts\, mixed media\, printmaking and more. The community is invited to an opening reception on Thursday\, Jan. 30\, from 4:30-7 p.m. Click here for more information. \nFeatured image is “Shepherdess” by Tyrus Clutter.
URL:https://cfinsider.org/event/2025-faculty-art-exhibition-at-the-webber-gallery
LOCATION:Webber Gallery
CATEGORIES:Ocala Campus,Webber Gallery
ATTACH;FMTTYPE=image/jpeg:https://cfinsider.org/wp-content/uploads/2024/12/Clutter_Shepherdess.jpg
END:VEVENT
BEGIN:VEVENT
DTSTART;TZID=America/New_York:20250127T100000
DTEND;TZID=America/New_York:20250129T160000
DTSTAMP:20260421T060740
CREATED:20250110T144932Z
LAST-MODIFIED:20250110T144932Z
UID:15143-1737972000-1738166400@cfinsider.org
SUMMARY:LifeSouth Blood Drive
DESCRIPTION:LifeSouth Blood Center will be on the Ocala Campus Monday\, Jan. 27 – Wednesday\, Jan. 29\, 10 a.m. – 4 p.m. The bus will be in the parking lot in front of Building 11. If you are a member of a student club\, be sure to mention that to the staff for the club challenge. Remember\, one donation can save three lives. Give today! \nTopics and concepts presented at this event are for discussion purposes only and are not intended to espouse\, promote\, advance\, inculcate\, or compel individuals to believe the topics or concepts presented therein. Nor do they constitute endorsement of such topics or concepts by the College of Central Florida\, its Board of Trustees\, or any of their officers\, employees\, or agents.
URL:https://cfinsider.org/event/lifesouth-blood-drive-4
LOCATION:Student Life Building 11
CATEGORIES:Ocala Campus
ATTACH;FMTTYPE=image/png:https://cfinsider.org/wp-content/uploads/2023/12/blood-drive-1.png
END:VEVENT
BEGIN:VEVENT
DTSTART;TZID=America/New_York:20250128T123000
DTEND;TZID=America/New_York:20250128T133000
DTSTAMP:20260421T060740
CREATED:20250121T135343Z
LAST-MODIFIED:20250122T184033Z
UID:15202-1738067400-1738071000@cfinsider.org
SUMMARY:“Snag-It Magic” with Cole Diaz\, instructional designer\, E-Learning
DESCRIPTION:Learn pro-level screenshot capturing and editing techniques. Enhance visuals and communication like the experts! Capture\, annotate\, and enhance images with ease. This workshop will be held via Zoom only. Please register to attend the workshop. A Zoom link will be provided the day prior for virtual attendees.
URL:https://cfinsider.org/event/snag-it-magic-with-cole-diaz-instructional-designer-e-learning
LOCATION:FL
CATEGORIES:Office of Professional Development,Zoom Meeting
ATTACH;FMTTYPE=image/png:https://cfinsider.org/wp-content/uploads/2024/02/CF_Professional-Development_-color-e1755613629193.png
END:VEVENT
END:VCALENDAR