BEGIN:VCALENDAR
VERSION:2.0
PRODID:-//CF Insider - ECPv6.15.18//NONSGML v1.0//EN
CALSCALE:GREGORIAN
METHOD:PUBLISH
X-ORIGINAL-URL:https://cfinsider.org
X-WR-CALDESC:Events for CF Insider
REFRESH-INTERVAL;VALUE=DURATION:PT1H
X-Robots-Tag:noindex
X-PUBLISHED-TTL:PT1H
BEGIN:VTIMEZONE
TZID:America/New_York
BEGIN:DAYLIGHT
TZOFFSETFROM:-0500
TZOFFSETTO:-0400
TZNAME:EDT
DTSTART:20250309T070000
END:DAYLIGHT
BEGIN:STANDARD
TZOFFSETFROM:-0400
TZOFFSETTO:-0500
TZNAME:EST
DTSTART:20251102T060000
END:STANDARD
BEGIN:DAYLIGHT
TZOFFSETFROM:-0500
TZOFFSETTO:-0400
TZNAME:EDT
DTSTART:20260308T070000
END:DAYLIGHT
BEGIN:STANDARD
TZOFFSETFROM:-0400
TZOFFSETTO:-0500
TZNAME:EST
DTSTART:20261101T060000
END:STANDARD
BEGIN:DAYLIGHT
TZOFFSETFROM:-0500
TZOFFSETTO:-0400
TZNAME:EDT
DTSTART:20270314T070000
END:DAYLIGHT
BEGIN:STANDARD
TZOFFSETFROM:-0400
TZOFFSETTO:-0500
TZNAME:EST
DTSTART:20271107T060000
END:STANDARD
END:VTIMEZONE
BEGIN:VEVENT
DTSTART;TZID=America/New_York:20260219T100000
DTEND;TZID=America/New_York:20260501T160000
DTSTAMP:20260421T012751
CREATED:20260219T200551Z
LAST-MODIFIED:20260220T200018Z
UID:17182-1771495200-1777651200@cfinsider.org
SUMMARY:Artist Call for Webber Gallery 'Constellation' Exhibition
DESCRIPTION:The Webber Gallery is looking for artists interested in having their work displayed to take part in their upcoming exhibition\, “Constellation.” The exhibition will run from May 25-July 16. Please read the full details below\, and stop by to get your paper. If you would like to participate in this upcoming exhibition\, stop by the Webber gallery during our hours\, Monday -Friday 10 a.m.-4 p.m.\, to sign up and receive your piece(s) of paper and instruction sheet. Artwork is due to the Webber by May 1\, with the show occurring from May 25-July 16. \nConstellation Details/Instructions: \nThe imagery used is fully up to the interpretation of the artist: examine the classical zodiac\, use traditional imagery\, be completely abstract\, or reimagine the idea and definition of a constellation. \nThe following are the limits/rules of artwork accepted into the show: \n\nthe image must be created with “Prussian blue” (a specific shade of blue)\, and white and/or gold\nno other colors allowed\nmaterials can be ink\, paint\, cyanotype\, collage\, etc.\nthe image itself will be 8” x 10” created on a slightly larger piece of paper that we will provide (vertical or horizontal)\nthe artist must come by the gallery to pick up their submission packet (the specific paper\, sign-up sheet for artist\, and basic instruction!)\nthe paper is approximately 11” x 14” in size; image should be centered in the middle; take up no more than 8” x 10”; space around the edges for framing\nmust return the finished artwork by May 1 to allow time for framing\n\nIf you have any questions\, please contact Jacqueline Bozman at bozmanj@cf.edu or ext. 1664.
URL:https://cfinsider.org/event/artist-call-for-webber-gallery-constellation-exhibition
LOCATION:Webber Gallery
CATEGORIES:Webber Gallery
ATTACH;FMTTYPE=image/jpeg:https://cfinsider.org/wp-content/uploads/2026/02/big-bar-2651972_960_720-e1771531299960.jpg
END:VEVENT
BEGIN:VEVENT
DTSTART;TZID=America/New_York:20260330T100000
DTEND;TZID=America/New_York:20260505T160000
DTSTAMP:20260421T012751
CREATED:20260311T182222Z
LAST-MODIFIED:20260312T152717Z
UID:17310-1774864800-1777996800@cfinsider.org
SUMMARY:2026 CF Student Art Exhibition
DESCRIPTION:The Webber Gallery invites you to the 2026 CF Student Art Exhibition. The exhibition opens Monday\, March 30\, and will close Tuesday\, May 5. The opening reception will be Wednesday\, April 1 at 12:30 p.m. All chosen award placements will be announced\, and light refreshments will be served. Admission is free and open to the public. \nThe featured piece is last year’s Best in Show winner titled “Price of Passion” by Eileen McNiff Romero. \nTopics and concepts presented at this event are for discussion purposes only and are not intended to espouse\, promote\, advance\, inculcate\, or compel individuals to believe the topics or concepts presented therein. Nor do they constitute endorsement of such topics or concepts by the College of Central Florida\, its Board of Trustees\, or any of their officers\, employees\, or agents.
URL:https://cfinsider.org/event/2026-cf-student-art-exhibition
LOCATION:Webber Gallery
CATEGORIES:Ocala Campus,Webber Gallery
ATTACH;FMTTYPE=image/jpeg:https://cfinsider.org/wp-content/uploads/2026/03/Price-of-Passion-_Eileen-McNiff-Romero-e1773253781886.jpeg
END:VEVENT
BEGIN:VEVENT
DTSTART;TZID=America/New_York:20260420T080000
DTEND;TZID=America/New_York:20260424T120000
DTSTAMP:20260421T012751
CREATED:20260408T143257Z
LAST-MODIFIED:20260408T143507Z
UID:17415-1776672000-1777032000@cfinsider.org
SUMMARY:Celebrate National Library Week with Us\, April 20-24
DESCRIPTION:Celebrate National Library Week with us — on campus and online!\nInvite your students\, and take a moment yourself\, to visit the Citrus and Ocala Campus Libraries April 20–24 to create\, join activities\, grab goodies\, and enter to win prizes. \n  \nMonday\, April 20 \nAppleton Artspace Activity | 12:30 p.m. \nOcala Campus\, Stearns Learning Resources Center\, Bldg. 3 \nCreate with the Appleton Museum Education Team! Snap a photo of your work and email it to library@cf.edu to enter prize drawings. First 25 students receive a café coupon. \n  \nDungeons & Dragons Campaign Session | 12:30 p.m. \nWilton Simpson Citrus Campus\, Bldg. 2-202. \nRegister to enter prize drawings. \n  \nWednesday\, April 22 \nJoin Book Club | 12:30 p.m. \nOcala Campus\, Stearns Learning Resources Center\, Bldg. 3 \nSpace Survival Trivia + Project Hail Mary discussion — no reading required! \nFirst 25 students receive a café coupon. \n  \nBioDiT Nature Walk | 12:30 p.m. \nWilton Simpson Citrus Campus\, BioDiT Nature Trail. \nRegister to enter prize drawings. \n  \nInvesting For Students | 1 p.m. \nOcala Campus\, Stearns Learning Resources Center\, Bldg. 3-101K \nLearn how to research stocks and get tip$ for picking investments with Liz Minnerly. Sign in to enter prize drawings. \n  \nYoga with Yoga Club | 2 p.m. \nOcala Campus\, Stearns Learning Resources Center\, Bldg. 3-113 \nJoin Marissa Ramos. Sign in to enter prize drawings. \n  \nAll Week (Online & Ongoing) \nThank You! Library Survey \nTake our short survey + enter to win fab prizes! https://forms.gle/BGpS5HFcmvakTUGk9 \n  \nOED Etymology Quiz “Related or not?” \nRelated… or just look-alikes? Put your word knowledge to the test. Take the quiz\, screenshot your score\, and email it to library@cf.edu to enter! https://www.oed.com/information/using-the-oed/learning-and-teaching-resources/quizzes-2/related-or-not/ \n  \nWilton Simpson Citrus Campus Full Schedule at https://cf.libcal.com/calendar/Citrus_Campus_Library \nQuestions? Faithe Ruiz | ruizf@cf.edu / ext. 1749 \n 
URL:https://cfinsider.org/event/celebrate-national-library-week-with-us-april-20-24
LOCATION:Learning Commons in the Learning Resources Center
CATEGORIES:Ocala Campus
ATTACH;FMTTYPE=image/png:https://cfinsider.org/wp-content/uploads/2026/04/4-24-Library-Week-e1775658743900.png
END:VEVENT
END:VCALENDAR