BEGIN:VCALENDAR
VERSION:2.0
PRODID:-//CF Insider - ECPv6.15.20//NONSGML v1.0//EN
CALSCALE:GREGORIAN
METHOD:PUBLISH
X-ORIGINAL-URL:https://cfinsider.org
X-WR-CALDESC:Events for CF Insider
REFRESH-INTERVAL;VALUE=DURATION:PT1H
X-Robots-Tag:noindex
X-PUBLISHED-TTL:PT1H
BEGIN:VTIMEZONE
TZID:America/New_York
BEGIN:DAYLIGHT
TZOFFSETFROM:-0500
TZOFFSETTO:-0400
TZNAME:EDT
DTSTART:20250309T070000
END:DAYLIGHT
BEGIN:STANDARD
TZOFFSETFROM:-0400
TZOFFSETTO:-0500
TZNAME:EST
DTSTART:20251102T060000
END:STANDARD
BEGIN:DAYLIGHT
TZOFFSETFROM:-0500
TZOFFSETTO:-0400
TZNAME:EDT
DTSTART:20260308T070000
END:DAYLIGHT
BEGIN:STANDARD
TZOFFSETFROM:-0400
TZOFFSETTO:-0500
TZNAME:EST
DTSTART:20261101T060000
END:STANDARD
BEGIN:DAYLIGHT
TZOFFSETFROM:-0500
TZOFFSETTO:-0400
TZNAME:EDT
DTSTART:20270314T070000
END:DAYLIGHT
BEGIN:STANDARD
TZOFFSETFROM:-0400
TZOFFSETTO:-0500
TZNAME:EST
DTSTART:20271107T060000
END:STANDARD
END:VTIMEZONE
BEGIN:VEVENT
DTSTART;TZID=America/New_York:20260215T130000
DTEND;TZID=America/New_York:20260215T150000
DTSTAMP:20260423T120554
CREATED:20260129T153519Z
LAST-MODIFIED:20260129T153936Z
UID:17052-1771160400-1771167600@cfinsider.org
SUMMARY:Free Screening of "The Monuments Men"
DESCRIPTION:Join us\, Sunday\, Feb. 15\, 1 p.m.\, in the auditorium of the Appleton Museum of Art for a free movie screening of “The Monuments Men.” This event is part of Take a Bite Out of the Appleton: The CF Appleton Teaching Project\, a 2025-20206 Endowed Chair winner. Admission is free in honor of Presidents Day. You can also enjoy family-friendly art activities in the Artspace throughout the day. \nAbout the film: Based on the true story of the greatest treasure hunt in history\, “The Monuments Men” is an action drama focusing on an unlikely World War II platoon\, tasked by FDR with going into Germany to rescue artistic masterpieces from German thieves and returning them to their rightful owners. It would be an impossible mission: with the art trapped behind enemy lines\, and with the German Army under orders to destroy everything as the Reich fell\, how could these guys – seven museum directors\, curators\, and art historians\, all more familiar with Michelangelo than the M1 – possibly hope to succeed? But as the Monuments Men\, as they were called\, found themselves in a race against time to avoid the destruction of 1000 years of culture\, they would risk their lives to protect and defend mankind’s greatest achievements. \nTopics and concepts presented at this event are for discussion purposes only and are not intended to espouse\, promote\, advance\, inculcate\, or compel individuals to believe the topics or concepts presented therein. Nor do they constitute endorsement of such topics or concepts by the College of Central Florida\, its board of trustees\, or any of their officers\, employees or agents.
URL:https://cfinsider.org/event/__trashed-2
LOCATION:Appleton Museum\, 4333 E. Silver Springs Blvd.\, Ocala\, FL\, 34470\, United States
CATEGORIES:Appleton Museum
ATTACH;FMTTYPE=image/png:https://cfinsider.org/wp-content/uploads/2026/01/Monuments-Men-Flyer_APPROVED-scaled-e1769701122814.png
END:VEVENT
BEGIN:VEVENT
DTSTART;TZID=America/New_York:20260224T080000
DTEND;TZID=America/New_York:20260224T170000
DTSTAMP:20260423T120554
CREATED:20260224T214104Z
LAST-MODIFIED:20260309T144509Z
UID:17215-1771920000-1771952400@cfinsider.org
SUMMARY:Registration Now Open for Appleton’s Summer Art Camp
DESCRIPTION:Ocala’s largest art camp returns with a creative lineup of 29 camps for ages 5-17\, including a painting camp for teens at the Center for Agricultural Innovation at Vintage Farm! New this year are additional camps for ages 5-7 and early care from 8-9 a.m. for July and August sessions. Spaces fill quickly\, so be sure to register early. \nClick here for more information.
URL:https://cfinsider.org/event/registration-now-open-for-appletons-summer-art-camp
LOCATION:Appleton Museum\, 4333 E. Silver Springs Blvd.\, Ocala\, FL\, 34470\, United States
CATEGORIES:Appleton Museum
ATTACH;FMTTYPE=image/jpeg:https://cfinsider.org/wp-content/uploads/2026/02/Image-4-scaled-e1771969229458.jpg
END:VEVENT
BEGIN:VEVENT
DTSTART;TZID=America/New_York:20260224T140000
DTEND;TZID=America/New_York:20260224T190000
DTSTAMP:20260423T120554
CREATED:20260210T140043Z
LAST-MODIFIED:20260210T140043Z
UID:17121-1771941600-1771959600@cfinsider.org
SUMMARY:The Ira Holmes International Film Series presents "Linda Linda Linda"
DESCRIPTION:Join us Tuesday\, Feb. 24\, for a showing of the Japanese film “Linda Linda Linda.” You can see it at either the Appleton Museum at 2 p.m. or at 7 p.m. on the Ocala Campus in the Ira Holmes Classroom\, Room 110 of Building 8. \nFor three friends\, their dream of playing the final high school concert together is dashed when their lead vocalist quits the band. Desperate\, they recruit the first person they see: a Korean exchange student whose comprehension of Japanese is limited at best. It’s a race against time as the group struggles to learn three songs in three days. The soundtrack fuses Japanese bangers with original music composed by James Iha of the Smashing Pumpkins. \n“Linda Linda Linda” (R\, Japan\, 2005\, 1 hour\, 54 minutes) \nFor a full series list and more information on the Ira Holmes International Film Series\, contact Wendy Adams at 352-873-5800\, ext. 1546\, or visit www.CF.edu/filmseries. \nTopics and concepts presented at this event are for discussion purposes only and are not intended to espouse\, promote\, advance\, inculcate\, or compel individuals to believe the topics or concepts presented therein. Nor do they constitute endorsement of such topics or concepts by the College of Central Florida\, its board of trustees\, or any of their officers\, employees or agents.
URL:https://cfinsider.org/event/the-ira-holmes-international-film-series-presents-linda-linda-linda
LOCATION:Ira Holmes Classroom\, 3001 SW College RD\, Building *\, Ocala\, FL\, 34474\, United States
CATEGORIES:Appleton Museum,off-campus event
ATTACH;FMTTYPE=image/png:https://cfinsider.org/wp-content/uploads/2026/02/Linda-x3-2-24-e1770731628556.png
END:VEVENT
END:VCALENDAR