BEGIN:VCALENDAR
VERSION:2.0
PRODID:-//CF Insider - ECPv6.15.20//NONSGML v1.0//EN
CALSCALE:GREGORIAN
METHOD:PUBLISH
X-ORIGINAL-URL:https://cfinsider.org
X-WR-CALDESC:Events for CF Insider
REFRESH-INTERVAL;VALUE=DURATION:PT1H
X-Robots-Tag:noindex
X-PUBLISHED-TTL:PT1H
BEGIN:VTIMEZONE
TZID:America/New_York
BEGIN:DAYLIGHT
TZOFFSETFROM:-0500
TZOFFSETTO:-0400
TZNAME:EDT
DTSTART:20250309T070000
END:DAYLIGHT
BEGIN:STANDARD
TZOFFSETFROM:-0400
TZOFFSETTO:-0500
TZNAME:EST
DTSTART:20251102T060000
END:STANDARD
BEGIN:DAYLIGHT
TZOFFSETFROM:-0500
TZOFFSETTO:-0400
TZNAME:EDT
DTSTART:20260308T070000
END:DAYLIGHT
BEGIN:STANDARD
TZOFFSETFROM:-0400
TZOFFSETTO:-0500
TZNAME:EST
DTSTART:20261101T060000
END:STANDARD
BEGIN:DAYLIGHT
TZOFFSETFROM:-0500
TZOFFSETTO:-0400
TZNAME:EDT
DTSTART:20270314T070000
END:DAYLIGHT
BEGIN:STANDARD
TZOFFSETFROM:-0400
TZOFFSETTO:-0500
TZNAME:EST
DTSTART:20271107T060000
END:STANDARD
END:VTIMEZONE
BEGIN:VEVENT
DTSTART;TZID=America/New_York:20260215T130000
DTEND;TZID=America/New_York:20260215T150000
DTSTAMP:20260425T085658
CREATED:20260129T153519Z
LAST-MODIFIED:20260129T153936Z
UID:17052-1771160400-1771167600@cfinsider.org
SUMMARY:Free Screening of "The Monuments Men"
DESCRIPTION:Join us\, Sunday\, Feb. 15\, 1 p.m.\, in the auditorium of the Appleton Museum of Art for a free movie screening of “The Monuments Men.” This event is part of Take a Bite Out of the Appleton: The CF Appleton Teaching Project\, a 2025-20206 Endowed Chair winner. Admission is free in honor of Presidents Day. You can also enjoy family-friendly art activities in the Artspace throughout the day. \nAbout the film: Based on the true story of the greatest treasure hunt in history\, “The Monuments Men” is an action drama focusing on an unlikely World War II platoon\, tasked by FDR with going into Germany to rescue artistic masterpieces from German thieves and returning them to their rightful owners. It would be an impossible mission: with the art trapped behind enemy lines\, and with the German Army under orders to destroy everything as the Reich fell\, how could these guys – seven museum directors\, curators\, and art historians\, all more familiar with Michelangelo than the M1 – possibly hope to succeed? But as the Monuments Men\, as they were called\, found themselves in a race against time to avoid the destruction of 1000 years of culture\, they would risk their lives to protect and defend mankind’s greatest achievements. \nTopics and concepts presented at this event are for discussion purposes only and are not intended to espouse\, promote\, advance\, inculcate\, or compel individuals to believe the topics or concepts presented therein. Nor do they constitute endorsement of such topics or concepts by the College of Central Florida\, its board of trustees\, or any of their officers\, employees or agents.
URL:https://cfinsider.org/event/__trashed-2
LOCATION:Appleton Museum\, 4333 E. Silver Springs Blvd.\, Ocala\, FL\, 34470\, United States
CATEGORIES:Appleton Museum
ATTACH;FMTTYPE=image/png:https://cfinsider.org/wp-content/uploads/2026/01/Monuments-Men-Flyer_APPROVED-scaled-e1769701122814.png
END:VEVENT
END:VCALENDAR