BEGIN:VCALENDAR
VERSION:2.0
PRODID:-//CF Insider - ECPv6.15.18//NONSGML v1.0//EN
CALSCALE:GREGORIAN
METHOD:PUBLISH
X-ORIGINAL-URL:https://cfinsider.org
X-WR-CALDESC:Events for CF Insider
REFRESH-INTERVAL;VALUE=DURATION:PT1H
X-Robots-Tag:noindex
X-PUBLISHED-TTL:PT1H
BEGIN:VTIMEZONE
TZID:America/New_York
BEGIN:DAYLIGHT
TZOFFSETFROM:-0500
TZOFFSETTO:-0400
TZNAME:EDT
DTSTART:20250309T070000
END:DAYLIGHT
BEGIN:STANDARD
TZOFFSETFROM:-0400
TZOFFSETTO:-0500
TZNAME:EST
DTSTART:20251102T060000
END:STANDARD
BEGIN:DAYLIGHT
TZOFFSETFROM:-0500
TZOFFSETTO:-0400
TZNAME:EDT
DTSTART:20260308T070000
END:DAYLIGHT
BEGIN:STANDARD
TZOFFSETFROM:-0400
TZOFFSETTO:-0500
TZNAME:EST
DTSTART:20261101T060000
END:STANDARD
BEGIN:DAYLIGHT
TZOFFSETFROM:-0500
TZOFFSETTO:-0400
TZNAME:EDT
DTSTART:20270314T070000
END:DAYLIGHT
BEGIN:STANDARD
TZOFFSETFROM:-0400
TZOFFSETTO:-0500
TZNAME:EST
DTSTART:20271107T060000
END:STANDARD
END:VTIMEZONE
BEGIN:VEVENT
DTSTART;TZID=America/New_York:20260422T193000
DTEND;TZID=America/New_York:20260428T193000
DTSTAMP:20260419T131414
CREATED:20260416T184624Z
LAST-MODIFIED:20260416T184624Z
UID:17477-1776886200-1777404600@cfinsider.org
SUMMARY:CF VPA Music Concerts Spring 2026
DESCRIPTION:End your spring semester with a celebration of music. There is a series of four concerts to end ths semester. See the poster for information on the individual events. Admission is free for each event. Thank you for supporting our instrumental music students! \nTopics and concepts presented at this event are for discussion purposes only and are not intended to espouse\, promote\, advance\, inculcate\, or compel individuals to believe the topics or concepts presented therein. Nor do they constitute endorsement of such topics or concepts by the College of Central Florida\, its board of trustees\, or any of their officers\, employees or agents.
URL:https://cfinsider.org/event/cf-vpa-music-concerts-spring-2026
LOCATION:Charles R. Dassance Fine Arts Center\, 3001 SW College RD\, building 4\, Ocala\, FL\, 34474\, United States
CATEGORIES:Ocala Campus,Webber Center
ATTACH;FMTTYPE=image/jpeg:https://cfinsider.org/wp-content/uploads/2017/09/sheet-music-944796_640.jpg
END:VEVENT
END:VCALENDAR