BEGIN:VCALENDAR
VERSION:2.0
PRODID:-//CF Insider - ECPv6.15.20//NONSGML v1.0//EN
CALSCALE:GREGORIAN
METHOD:PUBLISH
X-ORIGINAL-URL:https://cfinsider.org
X-WR-CALDESC:Events for CF Insider
REFRESH-INTERVAL;VALUE=DURATION:PT1H
X-Robots-Tag:noindex
X-PUBLISHED-TTL:PT1H
BEGIN:VTIMEZONE
TZID:America/New_York
BEGIN:DAYLIGHT
TZOFFSETFROM:-0500
TZOFFSETTO:-0400
TZNAME:EDT
DTSTART:20250309T070000
END:DAYLIGHT
BEGIN:STANDARD
TZOFFSETFROM:-0400
TZOFFSETTO:-0500
TZNAME:EST
DTSTART:20251102T060000
END:STANDARD
BEGIN:DAYLIGHT
TZOFFSETFROM:-0500
TZOFFSETTO:-0400
TZNAME:EDT
DTSTART:20260308T070000
END:DAYLIGHT
BEGIN:STANDARD
TZOFFSETFROM:-0400
TZOFFSETTO:-0500
TZNAME:EST
DTSTART:20261101T060000
END:STANDARD
BEGIN:DAYLIGHT
TZOFFSETFROM:-0500
TZOFFSETTO:-0400
TZNAME:EDT
DTSTART:20270314T070000
END:DAYLIGHT
BEGIN:STANDARD
TZOFFSETFROM:-0400
TZOFFSETTO:-0500
TZNAME:EST
DTSTART:20271107T060000
END:STANDARD
END:VTIMEZONE
BEGIN:VEVENT
DTSTART;TZID=America/New_York:20260408T123000
DTEND;TZID=America/New_York:20260408T133000
DTSTAMP:20260423T183337
CREATED:20260326T171255Z
LAST-MODIFIED:20260409T140653Z
UID:17365-1775651400-1775655000@cfinsider.org
SUMMARY:'Music and the Mind' with Dr. Sarah Satterfield
DESCRIPTION:Join Dr. Sarah Satterfield\, associate professor\, Wednesday\, April 8\, 12:30-1:30 p.m.\, for “Music and the Mind.” Discover how intentional music listening reduces stress and boosts focus. This will be an interactive session featuring guided exercises and simple strategies to enhance your well-being in the office\, the classroom\, or at home. 🎶 This session will be held on the Ocala campus in the Fine Arts Hall\, Bldg 4\, Room 207\, and via Zoom. Make life easier by using MUSIC! Sign up now! \n Zoom Link  Meeting ID: 965 7614 3835 Passcode: 309360
URL:https://cfinsider.org/event/music-and-the-mind-with-dr-sarah-satterfield
LOCATION:Fine Arts Hall\, 3001 SW College RD\, Bldg 4\, Room 207\, Ocala\, FL\, 34474\, United States
CATEGORIES:Office of Professional Development,Zoom Meeting
ATTACH;FMTTYPE=image/png:https://cfinsider.org/wp-content/uploads/2024/02/CF_Professional-Development_-color-e1755613629193.png
END:VEVENT
END:VCALENDAR