BEGIN:VCALENDAR
VERSION:2.0
PRODID:-//CF Insider - ECPv6.15.20//NONSGML v1.0//EN
CALSCALE:GREGORIAN
METHOD:PUBLISH
X-ORIGINAL-URL:https://cfinsider.org
X-WR-CALDESC:Events for CF Insider
REFRESH-INTERVAL;VALUE=DURATION:PT1H
X-Robots-Tag:noindex
X-PUBLISHED-TTL:PT1H
BEGIN:VTIMEZONE
TZID:America/New_York
BEGIN:DAYLIGHT
TZOFFSETFROM:-0500
TZOFFSETTO:-0400
TZNAME:EDT
DTSTART:20250309T070000
END:DAYLIGHT
BEGIN:STANDARD
TZOFFSETFROM:-0400
TZOFFSETTO:-0500
TZNAME:EST
DTSTART:20251102T060000
END:STANDARD
BEGIN:DAYLIGHT
TZOFFSETFROM:-0500
TZOFFSETTO:-0400
TZNAME:EDT
DTSTART:20260308T070000
END:DAYLIGHT
BEGIN:STANDARD
TZOFFSETFROM:-0400
TZOFFSETTO:-0500
TZNAME:EST
DTSTART:20261101T060000
END:STANDARD
BEGIN:DAYLIGHT
TZOFFSETFROM:-0500
TZOFFSETTO:-0400
TZNAME:EDT
DTSTART:20270314T070000
END:DAYLIGHT
BEGIN:STANDARD
TZOFFSETFROM:-0400
TZOFFSETTO:-0500
TZNAME:EST
DTSTART:20271107T060000
END:STANDARD
END:VTIMEZONE
BEGIN:VEVENT
DTSTART;TZID=America/New_York:20260219T100000
DTEND;TZID=America/New_York:20260501T160000
DTSTAMP:20260425T095506
CREATED:20260219T200551Z
LAST-MODIFIED:20260220T200018Z
UID:17182-1771495200-1777651200@cfinsider.org
SUMMARY:Artist Call for Webber Gallery 'Constellation' Exhibition
DESCRIPTION:The Webber Gallery is looking for artists interested in having their work displayed to take part in their upcoming exhibition\, “Constellation.” The exhibition will run from May 25-July 16. Please read the full details below\, and stop by to get your paper. If you would like to participate in this upcoming exhibition\, stop by the Webber gallery during our hours\, Monday -Friday 10 a.m.-4 p.m.\, to sign up and receive your piece(s) of paper and instruction sheet. Artwork is due to the Webber by May 1\, with the show occurring from May 25-July 16. \nConstellation Details/Instructions: \nThe imagery used is fully up to the interpretation of the artist: examine the classical zodiac\, use traditional imagery\, be completely abstract\, or reimagine the idea and definition of a constellation. \nThe following are the limits/rules of artwork accepted into the show: \n\nthe image must be created with “Prussian blue” (a specific shade of blue)\, and white and/or gold\nno other colors allowed\nmaterials can be ink\, paint\, cyanotype\, collage\, etc.\nthe image itself will be 8” x 10” created on a slightly larger piece of paper that we will provide (vertical or horizontal)\nthe artist must come by the gallery to pick up their submission packet (the specific paper\, sign-up sheet for artist\, and basic instruction!)\nthe paper is approximately 11” x 14” in size; image should be centered in the middle; take up no more than 8” x 10”; space around the edges for framing\nmust return the finished artwork by May 1 to allow time for framing\n\nIf you have any questions\, please contact Jacqueline Bozman at bozmanj@cf.edu or ext. 1664.
URL:https://cfinsider.org/event/artist-call-for-webber-gallery-constellation-exhibition
LOCATION:Webber Gallery
CATEGORIES:Webber Gallery
ATTACH;FMTTYPE=image/jpeg:https://cfinsider.org/wp-content/uploads/2026/02/big-bar-2651972_960_720-e1771531299960.jpg
END:VEVENT
BEGIN:VEVENT
DTSTART;TZID=America/New_York:20260330T100000
DTEND;TZID=America/New_York:20260505T160000
DTSTAMP:20260425T095506
CREATED:20260311T182222Z
LAST-MODIFIED:20260312T152717Z
UID:17310-1774864800-1777996800@cfinsider.org
SUMMARY:2026 CF Student Art Exhibition
DESCRIPTION:The Webber Gallery invites you to the 2026 CF Student Art Exhibition. The exhibition opens Monday\, March 30\, and will close Tuesday\, May 5. The opening reception will be Wednesday\, April 1 at 12:30 p.m. All chosen award placements will be announced\, and light refreshments will be served. Admission is free and open to the public. \nThe featured piece is last year’s Best in Show winner titled “Price of Passion” by Eileen McNiff Romero. \nTopics and concepts presented at this event are for discussion purposes only and are not intended to espouse\, promote\, advance\, inculcate\, or compel individuals to believe the topics or concepts presented therein. Nor do they constitute endorsement of such topics or concepts by the College of Central Florida\, its Board of Trustees\, or any of their officers\, employees\, or agents.
URL:https://cfinsider.org/event/2026-cf-student-art-exhibition
LOCATION:Webber Gallery
CATEGORIES:Ocala Campus,Webber Gallery
ATTACH;FMTTYPE=image/jpeg:https://cfinsider.org/wp-content/uploads/2026/03/Price-of-Passion-_Eileen-McNiff-Romero-e1773253781886.jpeg
END:VEVENT
BEGIN:VEVENT
DTSTART;TZID=America/New_York:20260422T193000
DTEND;TZID=America/New_York:20260428T193000
DTSTAMP:20260425T095506
CREATED:20260416T184624Z
LAST-MODIFIED:20260416T184624Z
UID:17477-1776886200-1777404600@cfinsider.org
SUMMARY:CF VPA Music Concerts Spring 2026
DESCRIPTION:End your spring semester with a celebration of music. There is a series of four concerts to end ths semester. See the poster for information on the individual events. Admission is free for each event. Thank you for supporting our instrumental music students! \nTopics and concepts presented at this event are for discussion purposes only and are not intended to espouse\, promote\, advance\, inculcate\, or compel individuals to believe the topics or concepts presented therein. Nor do they constitute endorsement of such topics or concepts by the College of Central Florida\, its board of trustees\, or any of their officers\, employees or agents.
URL:https://cfinsider.org/event/cf-vpa-music-concerts-spring-2026
LOCATION:Charles R. Dassance Fine Arts Center\, 3001 SW College RD\, building 4\, Ocala\, FL\, 34474\, United States
CATEGORIES:Ocala Campus,Webber Center
ATTACH;FMTTYPE=image/jpeg:https://cfinsider.org/wp-content/uploads/2017/09/sheet-music-944796_640.jpg
END:VEVENT
BEGIN:VEVENT
DTSTART;TZID=America/New_York:20260427T120000
DTEND;TZID=America/New_York:20260427T130000
DTSTAMP:20260425T095506
CREATED:20260416T153511Z
LAST-MODIFIED:20260416T183217Z
UID:17473-1777291200-1777294800@cfinsider.org
SUMMARY:“Elevate Excel” with Dave Lanzilla
DESCRIPTION:Join us Monday\, April 27\, 12:00-1:00 p.m.\, and elevate your Excel with Dave Lanzilla\, associate professor\, Business & Technology\, through an introduction to essential tools like charts\, filtering and sorting data\, and using basic formulas such as SUM and AVERAGE. These skills will help you manage and analyze your data more effectively. Location: Professional Development Center\, Large Computer Lab (3-117D)\, and Zoom. Sign up now! Ask your questions ahead of time! 🙂 \nZoom Link: https://cfpatriots.zoom.us/j/98240969880?pwd=ljfCaPkfzW7f8a3TxUu0caNXqjJyTK.1 \nMeeting ID: 982 4096 9880     Passcode: 218132
URL:https://cfinsider.org/event/elevate-excel-with-dave-lanzilla
LOCATION:Professional Development Center
ATTACH;FMTTYPE=image/png:https://cfinsider.org/wp-content/uploads/2024/02/CF_Professional-Development_-color-e1755613629193.png
END:VEVENT
BEGIN:VEVENT
DTSTART;TZID=America/New_York:20260428T110000
DTEND;TZID=America/New_York:20260428T150000
DTSTAMP:20260425T095506
CREATED:20260306T170048Z
LAST-MODIFIED:20260306T170048Z
UID:17285-1777374000-1777388400@cfinsider.org
SUMMARY:AFC April Chapter Meeting: Citrus BioDiT Tour
DESCRIPTION:Join us for a fun and interactive walking tour of the new BioDiT at CF’s Wilton Simpson Citrus Campus! This isn’t just a campus tour — it’s an open-air and digital museum experience! Join your coworkers Tuesday\, April 28\, 12:30-1:30 p.m.\, as we explore BioDiT together. You’ll learn about the amazing biodiversity of Citrus County\, the ecosystems that support it\, and how nature plays a big role in the county’s economy. Lunch as well as transportation from our other two main campuses will be provided. We will leave each location at 11 a.m. and return by 3 p.m. If you are interested\, please get permission from your supervisor. Once you have received permission\, please send an email to either Katelyn James or Erina Gross by Tuesday\, April 22 to save your spot.
URL:https://cfinsider.org/event/afc-april-chapter-meeting-citrus-biodit-tour
LOCATION:Citrus Campus Pavilion
CATEGORIES:Association of Florida Colleges,Wilton Simpson Citrus Campus
ATTACH;FMTTYPE=image/png:https://cfinsider.org/wp-content/uploads/2026/03/Citrus-Biodiversity-Trail-Tour-1-e1772816412914.png
END:VEVENT
BEGIN:VEVENT
DTSTART;TZID=America/New_York:20260429T120000
DTEND;TZID=America/New_York:20260429T140000
DTSTAMP:20260425T095506
CREATED:20260422T153311Z
LAST-MODIFIED:20260423T144740Z
UID:17496-1777464000-1777471200@cfinsider.org
SUMMARY:Ocala SAB Spring 2026 Stressbusters Event
DESCRIPTION:STRESSBUSTERS is almost here! Join us Wednesday\, April 30\, 12-2 p.m.\, in Bedford Plaza as we take a break from stress. Lunch from Rasing Cane’s will be available. One lucky student will win a laptop. Be sure to bring your CF ID. \nThings to do include: \n\nTie Dye T-Shirts\nAppleton Museum Crafts\nColoring with CF Counseling\nClub tables will include giveaways\, games and more!\n\nPlease remember events sponsored by the Student Activities Board are for enrolled students. If you are not a currently enrolled student\, kindly refrain from taking food or giveaways to ensure there are enough for our students. \nTopics and concepts presented at this event are for discussion purposes only and are not intended to espouse\, promote\, advance\, inculcate\, or compel individuals to believe the topics or concepts presented therein. Nor do they constitute endorsement of such topics or concepts by the College of Central Florida\, its Board of Trustees\, or any of their officers\, employees\, or agents.
URL:https://cfinsider.org/event/ocala-sab-spring-2026stressbusters-event
LOCATION:Bedford Plaza
CATEGORIES:Ocala Campus,Student Activities Board
ATTACH;FMTTYPE=image/png:https://cfinsider.org/wp-content/uploads/2026/04/4-29-Stressbusters-e1776871947364.png
END:VEVENT
BEGIN:VEVENT
DTSTART;TZID=America/New_York:20260430T183000
DTEND;TZID=America/New_York:20260430T193000
DTSTAMP:20260425T095506
CREATED:20260422T154332Z
LAST-MODIFIED:20260423T144550Z
UID:17499-1777573800-1777577400@cfinsider.org
SUMMARY:2026 Spring Showcase Presented by Visual and Performing Arts Department
DESCRIPTION:Come show your support for our students in the VPA programs listed below as they present their Spring Showcase\, Thursday\, April 30\, at 6:30 p.m.\, in the Charles R. Dassance Fine Arts Auditorium. Tickets are free for students\, faculty\, and staff\, $6 for everyone else. To get tickets\, go to cf.universitytickets.com or call 352-873-5810. \nThere will be performances from: \n\nCF Wind Symphony\nCF Patriot Singers\nCF Patriot Blues Jazz Ensemble\nCF Minutemen Brass\nCF Woodwind Ensemble
URL:https://cfinsider.org/event/2026-spring-showcase-presented-by-visual-and-performing-arts-department
LOCATION:Charles R. Dassance Fine Arts Center\, 3001 SW College RD\, building 4\, Ocala\, FL\, 34474\, United States
CATEGORIES:Ocala Campus
ATTACH;FMTTYPE=image/png:https://cfinsider.org/wp-content/uploads/2026/04/4-30-VPA-Spring-Showcase-e1776872442605.png
END:VEVENT
BEGIN:VEVENT
DTSTART;TZID=America/New_York:20260501T080000
DTEND;TZID=America/New_York:20260501T100000
DTSTAMP:20260425T095506
CREATED:20260410T183519Z
LAST-MODIFIED:20260423T140808Z
UID:17462-1777622400-1777629600@cfinsider.org
SUMMARY:Friday\, May 1\, 2026 Employee Recognition and Service Awards
DESCRIPTION:The annual Employee Recognition and Service Awards ceremony is Friday\, May 1. Join us in the morning starting with our traditional breakfast at 8 a.m. in the Patriot Café\, where vegetarian and gluten-free options will be available. The program will begin at 9 a.m. in the Dassance Fine Arts Center. We will celebrate the service anniversaries of team members\, faculty Constellation Awards\, Patriot PRIDE Awards\, the CF Foundation’s Gabor Awards\, and our country’s 250th anniversary. Please remember to dress professionally – you may be an award winner! For parking instructions the day of the event\, see map below.
URL:https://cfinsider.org/event/save-the-date-2026-employee-recognition-and-service-awards
LOCATION:Charles R. Dassance Fine Arts Center\, 3001 SW College RD\, building 4\, Ocala\, FL\, 34474\, United States
CATEGORIES:CF Foundation,College Wide Event,Ocala Campus
ATTACH;FMTTYPE=image/png:https://cfinsider.org/wp-content/uploads/2026/04/fireworks-e1776953279252.png
END:VEVENT
BEGIN:VEVENT
DTSTART;TZID=America/New_York:20260501T180000
DTEND;TZID=America/New_York:20260501T190000
DTSTAMP:20260425T095506
CREATED:20260417T194927Z
LAST-MODIFIED:20260420T140939Z
UID:17488-1777658400-1777662000@cfinsider.org
SUMMARY:The Ira Holmes International Film Series presents 'Harold and Maude'
DESCRIPTION:Join us to celebrate film series members and the art and life of Budd Cort (1948-2026) with a bonus showing of the 1971 cult classic “Harold and Maude” on Friday\, May 1 at 6 pm in the Ira Holmes Classroom in Building 8 on the Ocala Campus. In honor of the Ira Holmes International Film Series 64th Anniversary Season\, there will be a merch giveaway with proof of 2026-2027 season film series membership. This event is free and open to the public and CF students. \nFor information about how to become a member or for a full series list and more information on the Ira Holmes International Film Series\, contact Wendy Adams at 352-873-5800\, ext. 1546\, or visit www.CF.edu/filmseries. \nTopics and concepts presented at this event are for discussion purposes only and are not intended to espouse\, promote\, advance\, inculcate\, or compel individuals to believe the topics or concepts presented therein. Nor do they constitute endorsement of such topics or concepts by the College of Central Florida\, its board of trustees\, or any of their officers\, employees or agents.
URL:https://cfinsider.org/event/the-ira-holmes-international-film-series-presents-harold-and-maude
LOCATION:Ira Holmes Classroom\, 3001 SW College RD\, Building *\, Ocala\, FL\, 34474\, United States
CATEGORIES:off-campus event
ATTACH;FMTTYPE=image/jpeg:https://cfinsider.org/wp-content/uploads/2026/04/Harold_and_Maude_POSTER_ba57e95fcc-e1776455331503.jpg
END:VEVENT
BEGIN:VEVENT
DTSTART;TZID=America/New_York:20260508T090000
DTEND;TZID=America/New_York:20260508T170000
DTSTAMP:20260425T095506
CREATED:20260414T171042Z
LAST-MODIFIED:20260416T185138Z
UID:17465-1778230800-1778259600@cfinsider.org
SUMMARY:2025-2026 CF Graduation
DESCRIPTION:The College of Central Florida’s annual commencement will be held on Friday\, May 8\, 2026\, at the World Equestrian Center (WEC)\, Expo Center 1\, 1751 N.W. 80th Ave.\, Ocala\, FL 34482. There will be two commencement ceremonies\, the first at 10 a.m. for graduates of Baccalaureate degrees\, Associate in Science degrees\, and certificates. The second ceremony will be at 2 p.m. for Associate in Arts graduates. \nFor the easiest access\, graduates and their guests should use the second entrance going west on State Road 40. Parking is free for those attending CF graduation. \nThe ceremony will also be livestreamed on the CF YouTube page. \nQuick Notes: \n\nLunch is provided for those who work the whole day at the event.\nThere is designated parking for CF faculty and staff. Faculty and staff are not considered VIPs for parking. VIP Parking is for platform guests only.\nPlease arrive early to avoid being stuck in traffic.\nPlease dress professionally and don’t forget to SMILE! There will be multiple photographers throughout the day\, out front and behind the scenes. If you see a photographer\, feel free to ask if there is a certain pic they would like help capturing.
URL:https://cfinsider.org/event/2025-2026-cf-graduation
LOCATION:World Equestian Center\, 1750 N.W. 80th Ave.\, Ocala\, FL\, 34482
CATEGORIES:College Wide Event,off-campus event
ATTACH;FMTTYPE=image/jpeg:https://cfinsider.org/wp-content/uploads/2024/05/0417-1-1-e1763669665576.jpg
END:VEVENT
BEGIN:VEVENT
DTSTART;TZID=America/New_York:20260526T110000
DTEND;TZID=America/New_York:20260526T150000
DTSTAMP:20260425T095506
CREATED:20260416T183939Z
LAST-MODIFIED:20260416T183939Z
UID:17475-1779793200-1779807600@cfinsider.org
SUMMARY:AFC May Chapter Meeting: Appleton Tour
DESCRIPTION:Join AFC Tuesday\, May 26\, for an engaging tour of the Appleton Museum of Art. Explore a variety of exhibitions showcasing diverse cultures\, time periods\, and artistic styles\, all within a stunning architectural space that blends classical design with modern elements. This experience offers a unique opportunity to connect with art\, history and culture right here in our community. Lunch provided! \nThe groups from our campuses in Citrus and Levy counties will leave their campus at ll a.m. They will be returning around 3 p.m. The group from the Ocala campus will leave at noon\, returning at 2 p.m. If you are interested\, please get permission from your supervisor. Once you have received permission\, please send an email to either Katelyn James\, Krystle Skelly or Erina Gross by Tuesday\, April 22 to save your spot.
URL:https://cfinsider.org/event/afc-may-chapter-meeting-appleton-tour
LOCATION:Appleton Museum\, 4333 E. Silver Springs Blvd.\, Ocala\, FL\, 34470\, United States
CATEGORIES:Appleton Museum,Association of Florida Colleges
ATTACH;FMTTYPE=image/png:https://cfinsider.org/wp-content/uploads/2026/04/Appleton-Tour-AFC-e1776364404129.png
END:VEVENT
END:VCALENDAR