BEGIN:VCALENDAR
VERSION:2.0
PRODID:-//CF Insider - ECPv6.15.20//NONSGML v1.0//EN
CALSCALE:GREGORIAN
METHOD:PUBLISH
X-ORIGINAL-URL:https://cfinsider.org
X-WR-CALDESC:Events for CF Insider
REFRESH-INTERVAL;VALUE=DURATION:PT1H
X-Robots-Tag:noindex
X-PUBLISHED-TTL:PT1H
BEGIN:VTIMEZONE
TZID:America/New_York
BEGIN:DAYLIGHT
TZOFFSETFROM:-0500
TZOFFSETTO:-0400
TZNAME:EDT
DTSTART:20250309T070000
END:DAYLIGHT
BEGIN:STANDARD
TZOFFSETFROM:-0400
TZOFFSETTO:-0500
TZNAME:EST
DTSTART:20251102T060000
END:STANDARD
BEGIN:DAYLIGHT
TZOFFSETFROM:-0500
TZOFFSETTO:-0400
TZNAME:EDT
DTSTART:20260308T070000
END:DAYLIGHT
BEGIN:STANDARD
TZOFFSETFROM:-0400
TZOFFSETTO:-0500
TZNAME:EST
DTSTART:20261101T060000
END:STANDARD
BEGIN:DAYLIGHT
TZOFFSETFROM:-0500
TZOFFSETTO:-0400
TZNAME:EDT
DTSTART:20270314T070000
END:DAYLIGHT
BEGIN:STANDARD
TZOFFSETFROM:-0400
TZOFFSETTO:-0500
TZNAME:EST
DTSTART:20271107T060000
END:STANDARD
END:VTIMEZONE
BEGIN:VEVENT
DTSTART;TZID=America/New_York:20260501T180000
DTEND;TZID=America/New_York:20260501T190000
DTSTAMP:20260423T101913
CREATED:20260417T194927Z
LAST-MODIFIED:20260420T140939Z
UID:17488-1777658400-1777662000@cfinsider.org
SUMMARY:The Ira Holmes International Film Series presents 'Harold and Maude'
DESCRIPTION:Join us to celebrate film series members and the art and life of Budd Cort (1948-2026) with a bonus showing of the 1971 cult classic “Harold and Maude” on Friday\, May 1 at 6 pm in the Ira Holmes Classroom in Building 8 on the Ocala Campus. In honor of the Ira Holmes International Film Series 64th Anniversary Season\, there will be a merch giveaway with proof of 2026-2027 season film series membership. This event is free and open to the public and CF students. \nFor information about how to become a member or for a full series list and more information on the Ira Holmes International Film Series\, contact Wendy Adams at 352-873-5800\, ext. 1546\, or visit www.CF.edu/filmseries. \nTopics and concepts presented at this event are for discussion purposes only and are not intended to espouse\, promote\, advance\, inculcate\, or compel individuals to believe the topics or concepts presented therein. Nor do they constitute endorsement of such topics or concepts by the College of Central Florida\, its board of trustees\, or any of their officers\, employees or agents.
URL:https://cfinsider.org/event/the-ira-holmes-international-film-series-presents-harold-and-maude
LOCATION:Ira Holmes Classroom\, 3001 SW College RD\, Building *\, Ocala\, FL\, 34474\, United States
CATEGORIES:off-campus event
ATTACH;FMTTYPE=image/jpeg:https://cfinsider.org/wp-content/uploads/2026/04/Harold_and_Maude_POSTER_ba57e95fcc-e1776455331503.jpg
END:VEVENT
END:VCALENDAR