BEGIN:VCALENDAR
VERSION:2.0
PRODID:-//CF Insider - ECPv6.15.20//NONSGML v1.0//EN
CALSCALE:GREGORIAN
METHOD:PUBLISH
X-ORIGINAL-URL:https://cfinsider.org
X-WR-CALDESC:Events for CF Insider
REFRESH-INTERVAL;VALUE=DURATION:PT1H
X-Robots-Tag:noindex
X-PUBLISHED-TTL:PT1H
BEGIN:VTIMEZONE
TZID:America/New_York
BEGIN:DAYLIGHT
TZOFFSETFROM:-0500
TZOFFSETTO:-0400
TZNAME:EDT
DTSTART:20250309T070000
END:DAYLIGHT
BEGIN:STANDARD
TZOFFSETFROM:-0400
TZOFFSETTO:-0500
TZNAME:EST
DTSTART:20251102T060000
END:STANDARD
BEGIN:DAYLIGHT
TZOFFSETFROM:-0500
TZOFFSETTO:-0400
TZNAME:EDT
DTSTART:20260308T070000
END:DAYLIGHT
BEGIN:STANDARD
TZOFFSETFROM:-0400
TZOFFSETTO:-0500
TZNAME:EST
DTSTART:20261101T060000
END:STANDARD
BEGIN:DAYLIGHT
TZOFFSETFROM:-0500
TZOFFSETTO:-0400
TZNAME:EDT
DTSTART:20270314T070000
END:DAYLIGHT
BEGIN:STANDARD
TZOFFSETFROM:-0400
TZOFFSETTO:-0500
TZNAME:EST
DTSTART:20271107T060000
END:STANDARD
END:VTIMEZONE
BEGIN:VEVENT
DTSTART;TZID=America/New_York:20260420T080000
DTEND;TZID=America/New_York:20260424T120000
DTSTAMP:20260423T130644
CREATED:20260408T143257Z
LAST-MODIFIED:20260408T143507Z
UID:17415-1776672000-1777032000@cfinsider.org
SUMMARY:Celebrate National Library Week with Us\, April 20-24
DESCRIPTION:Celebrate National Library Week with us — on campus and online!\nInvite your students\, and take a moment yourself\, to visit the Citrus and Ocala Campus Libraries April 20–24 to create\, join activities\, grab goodies\, and enter to win prizes. \n  \nMonday\, April 20 \nAppleton Artspace Activity | 12:30 p.m. \nOcala Campus\, Stearns Learning Resources Center\, Bldg. 3 \nCreate with the Appleton Museum Education Team! Snap a photo of your work and email it to library@cf.edu to enter prize drawings. First 25 students receive a café coupon. \n  \nDungeons & Dragons Campaign Session | 12:30 p.m. \nWilton Simpson Citrus Campus\, Bldg. 2-202. \nRegister to enter prize drawings. \n  \nWednesday\, April 22 \nJoin Book Club | 12:30 p.m. \nOcala Campus\, Stearns Learning Resources Center\, Bldg. 3 \nSpace Survival Trivia + Project Hail Mary discussion — no reading required! \nFirst 25 students receive a café coupon. \n  \nBioDiT Nature Walk | 12:30 p.m. \nWilton Simpson Citrus Campus\, BioDiT Nature Trail. \nRegister to enter prize drawings. \n  \nInvesting For Students | 1 p.m. \nOcala Campus\, Stearns Learning Resources Center\, Bldg. 3-101K \nLearn how to research stocks and get tip$ for picking investments with Liz Minnerly. Sign in to enter prize drawings. \n  \nYoga with Yoga Club | 2 p.m. \nOcala Campus\, Stearns Learning Resources Center\, Bldg. 3-113 \nJoin Marissa Ramos. Sign in to enter prize drawings. \n  \nAll Week (Online & Ongoing) \nThank You! Library Survey \nTake our short survey + enter to win fab prizes! https://forms.gle/BGpS5HFcmvakTUGk9 \n  \nOED Etymology Quiz “Related or not?” \nRelated… or just look-alikes? Put your word knowledge to the test. Take the quiz\, screenshot your score\, and email it to library@cf.edu to enter! https://www.oed.com/information/using-the-oed/learning-and-teaching-resources/quizzes-2/related-or-not/ \n  \nWilton Simpson Citrus Campus Full Schedule at https://cf.libcal.com/calendar/Citrus_Campus_Library \nQuestions? Faithe Ruiz | ruizf@cf.edu / ext. 1749 \n 
URL:https://cfinsider.org/event/celebrate-national-library-week-with-us-april-20-24
LOCATION:Learning Commons in the Learning Resources Center
CATEGORIES:Ocala Campus
ATTACH;FMTTYPE=image/png:https://cfinsider.org/wp-content/uploads/2026/04/4-24-Library-Week-e1775658743900.png
END:VEVENT
END:VCALENDAR