BEGIN:VCALENDAR
VERSION:2.0
PRODID:-//CF Insider - ECPv6.15.20//NONSGML v1.0//EN
CALSCALE:GREGORIAN
METHOD:PUBLISH
X-ORIGINAL-URL:https://cfinsider.org
X-WR-CALDESC:Events for CF Insider
REFRESH-INTERVAL;VALUE=DURATION:PT1H
X-Robots-Tag:noindex
X-PUBLISHED-TTL:PT1H
BEGIN:VTIMEZONE
TZID:America/New_York
BEGIN:DAYLIGHT
TZOFFSETFROM:-0500
TZOFFSETTO:-0400
TZNAME:EDT
DTSTART:20250309T070000
END:DAYLIGHT
BEGIN:STANDARD
TZOFFSETFROM:-0400
TZOFFSETTO:-0500
TZNAME:EST
DTSTART:20251102T060000
END:STANDARD
BEGIN:DAYLIGHT
TZOFFSETFROM:-0500
TZOFFSETTO:-0400
TZNAME:EDT
DTSTART:20260308T070000
END:DAYLIGHT
BEGIN:STANDARD
TZOFFSETFROM:-0400
TZOFFSETTO:-0500
TZNAME:EST
DTSTART:20261101T060000
END:STANDARD
BEGIN:DAYLIGHT
TZOFFSETFROM:-0500
TZOFFSETTO:-0400
TZNAME:EDT
DTSTART:20270314T070000
END:DAYLIGHT
BEGIN:STANDARD
TZOFFSETFROM:-0400
TZOFFSETTO:-0500
TZNAME:EST
DTSTART:20271107T060000
END:STANDARD
END:VTIMEZONE
BEGIN:VEVENT
DTSTART;TZID=America/New_York:20260204T100000
DTEND;TZID=America/New_York:20260204T140000
DTSTAMP:20260425T194340
CREATED:20260129T155308Z
LAST-MODIFIED:20260203T211215Z
UID:17059-1770199200-1770213600@cfinsider.org
SUMMARY:SAB Annual Make Your Own Valentine
DESCRIPTION:Join the Student Activities Board in the Learning Resources Center Wednesday\, Feb. 4\, 10 a.m.-2 p.m. to make your own Valentine. All supplies needed will be provided. Just bring your creativity. Valentine goodies will be provided for participating students.
URL:https://cfinsider.org/event/sab-annual-make-your-own-valentine
LOCATION:Stearns Learning Resources Center
CATEGORIES:Ocala Campus,Student Activities Board
ATTACH;FMTTYPE=image/jpeg:https://cfinsider.org/wp-content/uploads/2026/01/Make-your-own-valentine-e1769701969215.jpg
END:VEVENT
END:VCALENDAR