BEGIN:VCALENDAR
VERSION:2.0
PRODID:-//CF Insider - ECPv6.15.20//NONSGML v1.0//EN
CALSCALE:GREGORIAN
METHOD:PUBLISH
X-ORIGINAL-URL:https://cfinsider.org
X-WR-CALDESC:Events for CF Insider
REFRESH-INTERVAL;VALUE=DURATION:PT1H
X-Robots-Tag:noindex
X-PUBLISHED-TTL:PT1H
BEGIN:VTIMEZONE
TZID:America/New_York
BEGIN:DAYLIGHT
TZOFFSETFROM:-0500
TZOFFSETTO:-0400
TZNAME:EDT
DTSTART:20250309T070000
END:DAYLIGHT
BEGIN:STANDARD
TZOFFSETFROM:-0400
TZOFFSETTO:-0500
TZNAME:EST
DTSTART:20251102T060000
END:STANDARD
BEGIN:DAYLIGHT
TZOFFSETFROM:-0500
TZOFFSETTO:-0400
TZNAME:EDT
DTSTART:20260308T070000
END:DAYLIGHT
BEGIN:STANDARD
TZOFFSETFROM:-0400
TZOFFSETTO:-0500
TZNAME:EST
DTSTART:20261101T060000
END:STANDARD
BEGIN:DAYLIGHT
TZOFFSETFROM:-0500
TZOFFSETTO:-0400
TZNAME:EDT
DTSTART:20270314T070000
END:DAYLIGHT
BEGIN:STANDARD
TZOFFSETFROM:-0400
TZOFFSETTO:-0500
TZNAME:EST
DTSTART:20271107T060000
END:STANDARD
END:VTIMEZONE
BEGIN:VEVENT
DTSTART;TZID=America/New_York:20260429T120000
DTEND;TZID=America/New_York:20260429T140000
DTSTAMP:20260424T050903
CREATED:20260422T153311Z
LAST-MODIFIED:20260423T144740Z
UID:17496-1777464000-1777471200@cfinsider.org
SUMMARY:Ocala SAB Spring 2026 Stressbusters Event
DESCRIPTION:STRESSBUSTERS is almost here! Join us Wednesday\, April 30\, 12-2 p.m.\, in Bedford Plaza as we take a break from stress. Lunch from Rasing Cane’s will be available. One lucky student will win a laptop. Be sure to bring your CF ID. \nThings to do include: \n\nTie Dye T-Shirts\nAppleton Museum Crafts\nColoring with CF Counseling\nClub tables will include giveaways\, games and more!\n\nPlease remember events sponsored by the Student Activities Board are for enrolled students. If you are not a currently enrolled student\, kindly refrain from taking food or giveaways to ensure there are enough for our students. \nTopics and concepts presented at this event are for discussion purposes only and are not intended to espouse\, promote\, advance\, inculcate\, or compel individuals to believe the topics or concepts presented therein. Nor do they constitute endorsement of such topics or concepts by the College of Central Florida\, its Board of Trustees\, or any of their officers\, employees\, or agents.
URL:https://cfinsider.org/event/ocala-sab-spring-2026stressbusters-event
LOCATION:Bedford Plaza
CATEGORIES:Ocala Campus,Student Activities Board
ATTACH;FMTTYPE=image/png:https://cfinsider.org/wp-content/uploads/2026/04/4-29-Stressbusters-e1776871947364.png
END:VEVENT
END:VCALENDAR